BEGIN:VCALENDAR
VERSION:2.0
PRODID:-//pretix//pretix.eu//
BEGIN:VTIMEZONE
TZID:Europe/Berlin
BEGIN:STANDARD
DTSTART:20001029T040000
RRULE:FREQ=YEARLY;BYDAY=-1SU;BYMONTH=10
TZNAME:CET
TZOFFSETFROM:+0200
TZOFFSETTO:+0100
END:STANDARD
BEGIN:DAYLIGHT
DTSTART:20000326T030000
RRULE:FREQ=YEARLY;BYDAY=-1SU;BYMONTH=3
TZNAME:CEST
TZOFFSETFROM:+0100
TZOFFSETTO:+0200
END:DAYLIGHT
END:VTIMEZONE
BEGIN:VEVENT
UID:pretix-R01-ov-abend-171924@tickets.darc-r01.de
DTSTART;TZID=Europe/Berlin:20201217T190000
DTEND;TZID=Europe/Berlin:20201217T223000
DESCRIPTION:Tickets: https://tickets.darc-r01.de/ov-abend/171924/\nEinlass:
  17.12.2020 18:00\nVeranstalter: DARC R01
DTSTAMP:20260425T005116Z
LOCATION:Gaststätte "Tante Anna"\, Kölner Landstraße 370\, 40589 Düssel
 dorf-Holthausen
SUMMARY:OV-Abend (Grünkohlessen) - abgesagt
END:VEVENT
END:VCALENDAR
